BEGIN:VCALENDAR
VERSION:2.0
PRODID:-//ChamberMaster//Event Calendar 2.0//EN
METHOD:PUBLISH
X-PUBLISHED-TTL:P1H
REFRESH-INTERVAL:P1H
CALSCALE:GREGORIAN
BEGIN:VTIMEZONE
TZID:America/New_York
BEGIN:DAYLIGHT
RRULE:FREQ=YEARLY;BYMONTH=3;BYDAY=2SU
DTSTART:20070101T000000
TZOFFSETFROM:-0500
TZOFFSETTO:-0400
TZNAME:Eastern Daylight Time
END:DAYLIGHT
BEGIN:STANDARD
RRULE:FREQ=YEARLY;BYMONTH=11;BYDAY=1SU
DTSTART:20070101T000000
TZOFFSETFROM:-0400
TZOFFSETTO:-0500
TZNAME:Eastern Standard Time
END:STANDARD
END:VTIMEZONE
BEGIN:VEVENT
DTSTART;TZID=America/New_York:20260316T090000
DTEND;TZID=America/New_York:20300101T000000
X-MICROSOFT-CDO-ALLDAYEVENT:FALSE
SUMMARY:Construction Supervision: Emphasis in Building Certificate Request Form
DESCRIPTION:GBCA is offering a Certificate program in Construction Supervision: Emphasis in Building in partnership with Construction Experts\, Inc. In this program\, participants will gain a strong understanding of construction supervision and leadership\, including communication\, problem solving\, planning and scheduling\, contract documents\, and productivity management.Individuals pursuing this Certificate must complete 8 out of the following classes:Leadership and MotivationOral and Written CommunicationsProblem Solving and Risk ManagementContract Documents and Construction LawPlanning and SchedulingConstruction Productivity & Cost ManagementBuilding Green BuildingsConstruction Project ManagementCourses for the Certificate are offered either anytime or four times a year. The class schedule is designed so that students can complete the certificate programs within one year. However\, to provide flexibility\, students have up to three years to complete all required coursework if needed.If you have completed the required and elective courses (or you are taking the last course(s) now)\, register here to receive your program certificate.If you have any questions\, please contact Marybeth Gerdelmann at mgerdelmann@gbca.com.
X-ALT-DESC;FMTTYPE=text/html:<!DOCTYPE html><html><head><title></title></head><body aria-disabled="false"><p><span style="font-family: Arial\,Helvetica\,sans-serif\;">GBCA is offering a Certificate program in Construction Supervision: Emphasis in Building in partnership with Construction Experts\, Inc. In this program\, participants will gain a strong understanding of construction supervision and leadership\, including communication\, problem solving\, planning and scheduling\, contract documents\, and productivity management.</span></p><p><span style="font-family: Arial\,Helvetica\,sans-serif\;"><strong fr-original-style="" style="font-weight: 700\;">Individuals pursuing this Certificate must complete 8 out of the following classes:</strong></span></p><ul fr-original-style="" style="list-style-position: inside\;"><li style="font-family: Arial\, Helvetica\, sans-serif\;">Leadership and Motivation</li><li style="font-family: Arial\, Helvetica\, sans-serif\;">Oral and Written Communications</li><li style="font-family: Arial\, Helvetica\, sans-serif\;">Problem Solving and Risk Management</li><li style="font-family: Arial\, Helvetica\, sans-serif\;">Contract Documents and Construction Law</li><li style="font-family: Arial\, Helvetica\, sans-serif\;">Planning and Scheduling</li><li style="font-family: Arial\, Helvetica\, sans-serif\;">Construction Productivity &amp\; Cost Management</li><li style="font-family: Arial\, Helvetica\, sans-serif\;">Building Green Buildings</li><li style="font-family: Arial\, Helvetica\, sans-serif\;">Construction Project Management</li></ul><p><span style="font-family: Arial\,Helvetica\,sans-serif\;">Courses for the Certificate are offered either anytime or four times a year. The class schedule is designed so that students can complete the certificate programs within one year. However\, to provide flexibility\, students have up to three years to complete all required coursework if needed.</span></p><p><span style="font-family: Arial\,Helvetica\,sans-serif\;">If you have completed the required and elective courses (or you are taking the last course(s) now)\, register here to receive your program certificate.</span></p><p><span style="font-family: Arial\,Helvetica\,sans-serif\;">If you have any questions\, please contact Marybeth Gerdelmann at <a fr-original-style="" href="mailto:mgerdelmann@gbca.com" style="user-select: auto\;">mgerdelmann@gbca.com</a>.</span></p></body></html>
LOCATION:
UID:e.1266.1421886
SEQUENCE:3
DTSTAMP:20260423T085657Z
URL:https://members.gbca.com/eventcalendar/Details/construction-supervision-emphasis-in-building-certificate-request-form-1681239?sourceTypeId=Hub
END:VEVENT
END:VCALENDAR
