BEGIN:VCALENDAR
VERSION:2.0
PRODID:-//ChamberMaster//Event Calendar 2.0//EN
METHOD:PUBLISH
X-PUBLISHED-TTL:P1H
REFRESH-INTERVAL:P1H
CALSCALE:GREGORIAN
BEGIN:VTIMEZONE
TZID:America/New_York
BEGIN:DAYLIGHT
RRULE:FREQ=YEARLY;BYMONTH=3;BYDAY=2SU
DTSTART:20070101T000000
TZOFFSETFROM:-0500
TZOFFSETTO:-0400
TZNAME:Eastern Daylight Time
END:DAYLIGHT
BEGIN:STANDARD
RRULE:FREQ=YEARLY;BYMONTH=11;BYDAY=1SU
DTSTART:20070101T000000
TZOFFSETFROM:-0400
TZOFFSETTO:-0500
TZNAME:Eastern Standard Time
END:STANDARD
END:VTIMEZONE
BEGIN:VEVENT
DTSTART;TZID=America/New_York:20260316T090000
DTEND;TZID=America/New_York:20300101T000000
X-MICROSOFT-CDO-ALLDAYEVENT:FALSE
SUMMARY:Construction Project Management Certificate Request Form
DESCRIPTION:GBCA is offering a Certificate program in Construction Project Management in partnership with Construction Experts\, Inc. In this program\, participants will gain a comprehensive understanding of construction project management\, including planning\, scheduling\, risk management\, and the legal environment of construction. Students will learn to coordinate teams\, manage resources\, and oversee projects from preconstruction through closeout\, ensuring projects are completed efficiently\, on time\, and within budget.Required Courses (complete ALL of the following):Construction Project ManagementPractical Applications of Construction LawConstruction Equipment and MethodsPlanning and SchedulingBuilding Green Buildings: The Contractor's PerspectiveElective Courses (complete one of the following):Risk Management and Problem SolvingContract Documents and Construction LawConstruction Productivity and Cost ManagementCourses for the Certificate are offered either anytime or four times a year. The class schedule is designed so that students can complete the certificate programs within one year. However\, to provide flexibility\, students have up to three years to complete all required coursework if needed.If you have completed the required and elective courses (or you are taking the last course(s) now)\, register here to receive your program certificate.If you have any questions\, please contact Marybeth Gerdelmann at mgerdelmann@gbca.com.
X-ALT-DESC;FMTTYPE=text/html:<!DOCTYPE html><html><head><title></title></head><body aria-disabled="false"><p><span style="font-family: Arial\,Helvetica\,sans-serif\;">GBCA is offering a Certificate program in Construction Project Management in partnership with Construction Experts\, Inc. In this program\, participants will gain a comprehensive understanding of construction project management\, including planning\, scheduling\, risk management\, and the legal environment of construction. Students will learn to coordinate teams\, manage resources\, and oversee projects from preconstruction through closeout\, ensuring projects are completed efficiently\, on time\, and within budget.</span></p><p><span style="font-family: Arial\,Helvetica\,sans-serif\;"><strong fr-original-style="" style="font-weight: 700\;">Required Courses (complete ALL of the following):</strong></span></p><ul fr-original-style="" style="list-style-position: inside\;"><li style="font-family: Arial\, Helvetica\, sans-serif\;">Construction Project Management</li><li style="font-family: Arial\, Helvetica\, sans-serif\;">Practical Applications of Construction Law</li><li style="font-family: Arial\, Helvetica\, sans-serif\;">Construction Equipment and Methods</li><li style="font-family: Arial\, Helvetica\, sans-serif\;">Planning and Scheduling</li><li style="font-family: Arial\, Helvetica\, sans-serif\;">Building Green Buildings: The Contractor&#39\;s Perspective</li></ul><p><span style="font-family: Arial\,Helvetica\,sans-serif\;"><strong fr-original-style="" style="font-weight: 700\;">Elective Courses (complete one of the following):</strong></span></p><ul fr-original-style="" style="list-style-position: inside\;"><li style="font-family: Arial\, Helvetica\, sans-serif\;">Risk Management and Problem Solving</li><li style="font-family: Arial\, Helvetica\, sans-serif\;">Contract Documents and Construction Law</li><li style="font-family: Arial\, Helvetica\, sans-serif\;">Construction Productivity and Cost Management</li></ul><p><span style="font-family: Arial\,Helvetica\,sans-serif\;">Courses for the Certificate are offered either anytime or four times a year. The class schedule is designed so that students can complete the certificate programs within one year. However\, to provide flexibility\, students have up to three years to complete all required coursework if needed.</span></p><p><span style="font-family: Arial\,Helvetica\,sans-serif\;">If you have completed the required and elective courses (or you are taking the last course(s) now)\, register here to receive your program certificate.</span></p><p><span style="font-family: Arial\,Helvetica\,sans-serif\;">If you have any questions\, please contact Marybeth Gerdelmann at <a fr-original-style="" href="mailto:mgerdelmann@gbca.com" style="user-select: auto\;">mgerdelmann@gbca.com</a>.</span></p></body></html>
LOCATION:
UID:e.1266.1421523
SEQUENCE:3
DTSTAMP:20260423T085450Z
URL:https://members.gbca.com/eventcalendar/Details/construction-project-management-certificate-request-form-1680764?sourceTypeId=Hub
END:VEVENT
END:VCALENDAR
