BEGIN:VCALENDAR
VERSION:2.0
PRODID:-//ChamberMaster//Event Calendar 2.0//EN
METHOD:PUBLISH
X-PUBLISHED-TTL:P1H
REFRESH-INTERVAL:P1H
CALSCALE:GREGORIAN
BEGIN:VTIMEZONE
TZID:America/New_York
BEGIN:DAYLIGHT
RRULE:FREQ=YEARLY;BYMONTH=3;BYDAY=2SU
DTSTART:20070101T000000
TZOFFSETFROM:-0500
TZOFFSETTO:-0400
TZNAME:Eastern Daylight Time
END:DAYLIGHT
BEGIN:STANDARD
RRULE:FREQ=YEARLY;BYMONTH=11;BYDAY=1SU
DTSTART:20070101T000000
TZOFFSETFROM:-0400
TZOFFSETTO:-0500
TZNAME:Eastern Standard Time
END:STANDARD
END:VTIMEZONE
BEGIN:VEVENT
DTSTART;TZID=America/New_York:20260316T090000
DTEND;TZID=America/New_York:20300101T120000
X-MICROSOFT-CDO-ALLDAYEVENT:FALSE
SUMMARY:Construction Practices Certificate Request Form
DESCRIPTION:GBCA is offering a Certificate in Construction Practices in partnership with Construction Experts\, Inc. In this program\, participants will gain a foundational understanding of key construction skills including blueprint reading\, estimating\, construction math\, materials and methods\, and project planning. Participants will learn how to interpret construction documents and apply practical knowledge used throughout a project.Individuals pursuing this Certificate must complete 8 out of the following 10 classes:Introduction to Construction EstimatingEssential Construction MathConstruction Blueprint ReadingEstimating and Bidding 1Estimating and Bidding 2Construction Materials and ProcessesContract Documents and Construction LawPlanning and SchedulingConstruction Productivity and Cost ManagementBuilding Green Buildings: The Contractor's PerspectiveCourses for the Certificate are offered either anytime or four times a year. The class schedule is designed so that students can complete the certificate programs within one year. However\, to provide flexibility\, students have up to three years to complete all required coursework if needed.If you have completed the required and elective courses (or you are taking the last course(s) now)\, register here to receive your program certificate.If you have any questions\, please contact Marybeth Gerdelmann at mgerdelmann@gbca.com.
X-ALT-DESC;FMTTYPE=text/html:<!DOCTYPE html><html><head><title></title></head><body aria-disabled="false"><p><span style="font-family: Arial\,Helvetica\,sans-serif\;">GBCA is offering a Certificate in Construction Practices in partnership with Construction Experts\, Inc. In this program\, participants will gain a foundational understanding of key construction skills including blueprint reading\, estimating\, construction math\, materials and methods\, and project planning. Participants will learn how to interpret construction documents and apply practical knowledge used throughout a project.</span></p><p><span style="font-family: Arial\,Helvetica\,sans-serif\;"><strong fr-original-style="" style="font-weight: 700\;">Individuals pursuing this Certificate must complete 8 out of the following 10 classes:</strong></span></p><ul fr-original-style="" style="list-style-position: inside\;"><li style="font-family: Arial\, Helvetica\, sans-serif\;">Introduction to Construction Estimating</li><li style="font-family: Arial\, Helvetica\, sans-serif\;">Essential Construction Math</li><li style="font-family: Arial\, Helvetica\, sans-serif\;">Construction Blueprint Reading</li><li style="font-family: Arial\, Helvetica\, sans-serif\;">Estimating and Bidding 1</li><li style="font-family: Arial\, Helvetica\, sans-serif\;">Estimating and Bidding 2</li><li style="font-family: Arial\, Helvetica\, sans-serif\;">Construction Materials and Processes</li><li style="font-family: Arial\, Helvetica\, sans-serif\;">Contract Documents and Construction Law</li><li style="font-family: Arial\, Helvetica\, sans-serif\;">Planning and Scheduling</li><li style="font-family: Arial\, Helvetica\, sans-serif\;">Construction Productivity and Cost Management</li><li style="font-family: Arial\, Helvetica\, sans-serif\;">Building Green Buildings: The Contractor&rsquo\;s Perspective</li></ul><p><span style="font-family: Arial\,Helvetica\,sans-serif\;">Courses for the Certificate are offered either anytime or four times a year. The class schedule is designed so that students can complete the certificate programs within one year. However\, to provide flexibility\, students have up to three years to complete all required coursework if needed.</span></p><p><span style="font-family: Arial\,Helvetica\,sans-serif\;">If you have completed the required and elective courses (or you are taking the last course(s) now)\, register here to receive your program certificate.</span></p><p><span style="font-family: Arial\,Helvetica\,sans-serif\;">If you have any questions\, please contact Marybeth Gerdelmann at <a fr-original-style="" href="mailto:mgerdelmann@gbca.com" style="user-select: auto\;">mgerdelmann@gbca.com</a>.</span></p></body></html>
LOCATION:
UID:e.1266.1421389
SEQUENCE:3
DTSTAMP:20260423T085657Z
URL:https://members.gbca.com/eventcalendar/Details/construction-practices-certificate-request-form-1680552?sourceTypeId=Hub
END:VEVENT
END:VCALENDAR
