BEGIN:VCALENDAR
VERSION:2.0
PRODID:-//ChamberMaster//Event Calendar 2.0//EN
METHOD:PUBLISH
X-PUBLISHED-TTL:P1H
REFRESH-INTERVAL:P1H
CALSCALE:GREGORIAN
BEGIN:VTIMEZONE
TZID:America/New_York
BEGIN:DAYLIGHT
RRULE:FREQ=YEARLY;BYMONTH=3;BYDAY=2SU
DTSTART:20070101T000000
TZOFFSETFROM:-0500
TZOFFSETTO:-0400
TZNAME:Eastern Daylight Time
END:DAYLIGHT
BEGIN:STANDARD
RRULE:FREQ=YEARLY;BYMONTH=11;BYDAY=1SU
DTSTART:20070101T000000
TZOFFSETFROM:-0400
TZOFFSETTO:-0500
TZNAME:Eastern Standard Time
END:STANDARD
END:VTIMEZONE
BEGIN:VEVENT
DTSTART;VALUE=DATE:20260410
DTEND;VALUE=DATE:20260801
TRANSP:TRANSPARENT
X-MICROSOFT-CDO-ALLDAYEVENT:TRUE
SUMMARY:2026 Construction Excellence Awards Submission
DESCRIPTION:THIS IS NOT REGISTRATION FOR AN EVENT. THIS IS A PAYMENT PAGE FOR CONSTRUCTION EXCELLENCE AWARDS SUBMISSION. Please submit your payment for your entry. For Attendee information please input the name and contact information of the Primary Contact for the Project Submission. This is not a registration for the event. You may choose a quantity to correspond with the number of entries you are submitting. If you are submitting on behalf of a GBCA member company\, please use the GBCA member company contact as the ATTENDEE name.
X-ALT-DESC;FMTTYPE=text/html:<!DOCTYPE html><html><head><title></title></head><body aria-disabled="false"><p><strong fr-original-style="" style="font-weight: 700\;"><span style="color: rgb(184\, 49\, 47)\;">THIS IS NOT REGISTRATION FOR AN EVENT. THIS IS A PAYMENT PAGE FOR CONSTRUCTION EXCELLENCE AWARDS SUBMISSION.&nbsp\;</span></strong></p><p>Please submit your payment for your entry.&nbsp\;</p><p>For Attendee information please input the name and contact information of the Primary Contact for the Project Submission. This is not a registration for the event.&nbsp\;</p><p>You may choose a quantity to correspond with the number of entries you are submitting.&nbsp\;</p><p>If you are submitting on behalf of a GBCA member company\, please use the GBCA member company contact as the ATTENDEE name.</p></body></html>
LOCATION:
UID:e.1266.1441055
SEQUENCE:3
DTSTAMP:20260420T051455Z
URL:https://members.gbca.com/eventcalendar/Details/2026-construction-excellence-awards-submission-1706264?sourceTypeId=Hub
END:VEVENT
END:VCALENDAR
